BEGIN:VCALENDAR
VERSION:2.0
PRODID:-//vpc.lv - ECPv6.15.20//NONSGML v1.0//EN
CALSCALE:GREGORIAN
METHOD:PUBLISH
X-ORIGINAL-URL:https://vpc.lv
X-WR-CALDESC:Events for vpc.lv
REFRESH-INTERVAL;VALUE=DURATION:PT1H
X-Robots-Tag:noindex
X-PUBLISHED-TTL:PT1H
BEGIN:VTIMEZONE
TZID:Europe/Helsinki
BEGIN:DAYLIGHT
TZOFFSETFROM:+0200
TZOFFSETTO:+0300
TZNAME:EEST
DTSTART:20240331T010000
END:DAYLIGHT
BEGIN:STANDARD
TZOFFSETFROM:+0300
TZOFFSETTO:+0200
TZNAME:EET
DTSTART:20241027T010000
END:STANDARD
BEGIN:DAYLIGHT
TZOFFSETFROM:+0200
TZOFFSETTO:+0300
TZNAME:EEST
DTSTART:20250330T010000
END:DAYLIGHT
BEGIN:STANDARD
TZOFFSETFROM:+0300
TZOFFSETTO:+0200
TZNAME:EET
DTSTART:20251026T010000
END:STANDARD
BEGIN:DAYLIGHT
TZOFFSETFROM:+0200
TZOFFSETTO:+0300
TZNAME:EEST
DTSTART:20260329T010000
END:DAYLIGHT
BEGIN:STANDARD
TZOFFSETFROM:+0300
TZOFFSETTO:+0200
TZNAME:EET
DTSTART:20261025T010000
END:STANDARD
END:VTIMEZONE
BEGIN:VEVENT
DTSTART;TZID=Europe/Helsinki:20251121T100000
DTEND;TZID=Europe/Helsinki:20251121T160000
DTSTAMP:20260421T115127
CREATED:20251031T144955Z
LAST-MODIFIED:20251128T135712Z
UID:5628-1763719200-1763740800@vpc.lv
SUMMARY:VPC Student Information System Day
DESCRIPTION:VPC Student Information System Day is dedicated to higher education institutions to share experiences regarding the development\, architecture\, and implementation of modern Student Information Systems (SIS). The event aims to provide an overview of the latest trends and solutions that help universities manage study processes and data more efficiently. During the event\, information will also be provided about activity 4.2.2.11 “Study Process Digitalization\,” which is related to the development of shared elements of the Student Information System\, its current status\, and the next steps. \nSalesforce attendees: Jean Pembleton\, Marc Casanovas\, Bas Ten Holter \nLink to registration form – here \nAgenda: \n\n\n\n\n\n09:00-10:00\nRegistration/ Welcome tea & coffee\n\n\n10:00\nWelcome & Introductions (All)\n\n\n10:10\nUniversity of Latvia\, status and future steps in 4.2.2.11 project realization\n\n\n10:30\nSalesforce\, Agentforce Education (Education Cloud) Overview (Jean\, Marc)\n\n\n11:30\nQ&A\n\n\n12:00\nLunch\n\n\n13:00\nStudent Information System Overview (Modern SIS approach) (Jean)\n\n\n13:30\nSalesforce SIS demo (Marc)\n\n\n14:00\nDenmark National SIS Overview & Procurement Process (Bas\, Marc)\n\n\n14:30\nQ&A\n\n\n14:45-15:15\nCoffee break\n\n\n15:15-15:30\nWrap up (Bas/Jean next steps)
URL:https://vpc.lv/event/vpc-student-information-system-day/
LOCATION:Latvijas universitāte (Dabas māja) Magnum auditorium\, Jelgavas iela 1\, Rīga\, LV-1004\, Latvia
ATTACH;FMTTYPE=image/svg+xml:https://vpc.lv/wp-content/uploads/2025/10/logo_banner.svg
END:VEVENT
END:VCALENDAR