BEGIN:VCALENDAR
VERSION:2.0
PRODID:-//vpc.lv - ECPv6.15.20//NONSGML v1.0//EN
CALSCALE:GREGORIAN
METHOD:PUBLISH
X-ORIGINAL-URL:https://vpc.lv
X-WR-CALDESC:Events for vpc.lv
REFRESH-INTERVAL;VALUE=DURATION:PT1H
X-Robots-Tag:noindex
X-PUBLISHED-TTL:PT1H
BEGIN:VTIMEZONE
TZID:Europe/Helsinki
BEGIN:DAYLIGHT
TZOFFSETFROM:+0200
TZOFFSETTO:+0300
TZNAME:EEST
DTSTART:20240331T010000
END:DAYLIGHT
BEGIN:STANDARD
TZOFFSETFROM:+0300
TZOFFSETTO:+0200
TZNAME:EET
DTSTART:20241027T010000
END:STANDARD
BEGIN:DAYLIGHT
TZOFFSETFROM:+0200
TZOFFSETTO:+0300
TZNAME:EEST
DTSTART:20250330T010000
END:DAYLIGHT
BEGIN:STANDARD
TZOFFSETFROM:+0300
TZOFFSETTO:+0200
TZNAME:EET
DTSTART:20251026T010000
END:STANDARD
BEGIN:DAYLIGHT
TZOFFSETFROM:+0200
TZOFFSETTO:+0300
TZNAME:EEST
DTSTART:20260329T010000
END:DAYLIGHT
BEGIN:STANDARD
TZOFFSETFROM:+0300
TZOFFSETTO:+0200
TZNAME:EET
DTSTART:20261025T010000
END:STANDARD
END:VTIMEZONE
BEGIN:VEVENT
DTSTART;TZID=Europe/Helsinki:20250206T090000
DTEND;TZID=Europe/Helsinki:20250207T180000
DTSTAMP:20260424T003128
CREATED:20250116T141949Z
LAST-MODIFIED:20250116T141949Z
UID:3629-1738832400-1738951200@vpc.lv
SUMMARY:Data Sharing Festival 2025
DESCRIPTION:This Festival celebrates the intersection of privacy\, cybersecurity\, and sovereignty in the data world. It aims to recognize achievements\, tackle challenges\, and shape the future of data spaces with a mix of inspiring keynotes\, panels\, and many interactive sessions. The Data Sharing Festival will have a dynamic program that focuses on practical solutions and collaboration to scale up market adoption and synergise individual approaches. \nYour active participation is crucial in this journey toward data sharing excellence. The program promises entertaining and enlightening experiences\, fostering connections and sparking future collaborations. \nLink to event – https://eosc.eu/events/data-sharing-festival-2025/
URL:https://vpc.lv/event/data-sharing-festival-2025/
ATTACH;FMTTYPE=image/svg+xml:https://vpc.lv/wp-content/uploads/2025/01/Event-eosc-1.svg
END:VEVENT
BEGIN:VEVENT
DTSTART;TZID=Europe/Helsinki:20250210T130000
DTEND;TZID=Europe/Helsinki:20250210T150000
DTSTAMP:20260424T003128
CREATED:20250116T141634Z
LAST-MODIFIED:20250116T141634Z
UID:3533-1739192400-1739199600@vpc.lv
SUMMARY:Infoshare: Global Platform for Labs (GP4L)
DESCRIPTION:Description: \nJoin us for an exciting virtual infoshare session where we’ll explore the latest activities related to GP4L (the Global Platform for Labs). We will talk about \n\nThe main concepts and benefits related to GP4L\nHow to leverage the GP4L testbed to create flexible and adaptable networks\nUse cases and success stories from the GP4L labs\nThe future directions of GP4L\n\nDon’t miss this opportunity to connect with the GP4L team\, ask questions\, and gain valuable insights – https://geant-netdev.gitlab-pages.pcss.pl/gp4ldocs/ \nLink to event  – https://events.geant.org/event/1808/
URL:https://vpc.lv/event/infoshare-global-platform-for-labs-gp4l/
LOCATION:Virtually Hosted
ATTACH;FMTTYPE=image/svg+xml:https://vpc.lv/wp-content/uploads/2025/01/Event-geant.svg
END:VEVENT
BEGIN:VEVENT
DTSTART;TZID=Europe/Helsinki:20250211T120000
DTEND;TZID=Europe/Helsinki:20250211T133000
DTSTAMP:20260424T003128
CREATED:20250131T201625Z
LAST-MODIFIED:20250203T114002Z
UID:3816-1739275200-1739280600@vpc.lv
SUMMARY:Online Seminar on Clarivate's Higher Education Platform and Library Management System – Alma
DESCRIPTION:Discover how Alma – the comprehensive library management platform for higher education institutions – integrates print\, electronic\, and digital resource management into a unified system\, simplifying complex processes and enhancing operational efficiency. \nWhy Participate? \nOptimize workflows and streamline complex tasks with Alma\, a modern cloud-based library management system. Alma helps reduce operational complexity\, improve overall efficiency\, and enhance the user experience. \nGain practical insights into improving library operations and performance\, particularly in managing electronic and digital materials. Learn about successful solutions and strategies that will help your library reach new heights. \nPresenter: Bettina Schmid\, Senior Technical Solutions Consultant at Clarivate. \nRegistration form: \nBy submitting this form\, I agree that my data will be processed by VPCSubmitThank you for registering for the event! We will send the information to your email.×There was an error filling out the form. Please check the information you entered and try again.×
URL:https://vpc.lv/event/clarivates-higher-education-platform-incl-alma-overview/
LOCATION:Online
ATTACH;FMTTYPE=image/svg+xml:https://vpc.lv/wp-content/uploads/2025/01/Clarivate-logo-upper.svg
END:VEVENT
BEGIN:VEVENT
DTSTART;TZID=Europe/Helsinki:20250218T130000
DTEND;TZID=Europe/Helsinki:20250218T143000
DTSTAMP:20260424T003128
CREATED:20250131T201606Z
LAST-MODIFIED:20250204T062917Z
UID:3832-1739883600-1739889000@vpc.lv
SUMMARY:Online seminar on Clarivate's vision: "The Digital Age in Academia – Modern Library Services and Digital Transformation"
DESCRIPTION:Discover how Alma – an integrated library management system – provides libraries with modern tools for resource acquisition\, cataloging\, and circulation\, transforming libraries into efficiency hubs within your institution. By using Alma\, libraries can develop new\, value-added services for different user groups\, improving access to information and supporting academic work. \nGain practical insights into enhancing library operations and performance. \nPresenter: Bettina Schmid\, Senior Technical Solutions Consultant at Clarivate. \nRegistration form: \nBy submitting this form\, I agree that my data will be processed by VPCSubmitThank you for registering for the event! We will send the information to your email.×There was an error filling out the form. Please check the information you entered and try again.×
URL:https://vpc.lv/event/digital-age-in-academia-modern-library-services-and-digital-transformation/
LOCATION:Online
ATTACH;FMTTYPE=image/svg+xml:https://vpc.lv/wp-content/uploads/2025/01/Clarivate-big-banner-1.svg
END:VEVENT
BEGIN:VEVENT
DTSTART;TZID=Europe/Helsinki:20250220T100000
DTEND;TZID=Europe/Helsinki:20250221T133000
DTSTAMP:20260424T003128
CREATED:20250116T142010Z
LAST-MODIFIED:20250116T142010Z
UID:3637-1740045600-1740144600@vpc.lv
SUMMARY:FAIRfest: Celebrating advancements of FAIR solutions in EOSC
DESCRIPTION:FAIR-IMPACT and FAIRCORE4EOSC partners are glad to invite the broad European research community to their final event\, which will take place on the 20th and 21st of February 2025 in The Hague\, The Netherlands. \nThe event will be tied up with the 19th edition of the International Digital Curation Conference (IDCC25)\, and will be opportunity to showcase the results that the projects delivered since their start in 2022. \nParticipants are encouraged to join in celebrating these advancements and explore the future of FAIR solutions within the European Open Science Cloud (EOSC). \nMore information and the agenda will be published shortly \nLink to event – https://eosc.eu/events/fairfest-celebrating-advancements-of-fair-solutions-in-eosc/
URL:https://vpc.lv/event/fairfest-celebrating-advancements-of-fair-solutions-in-eosc/
ATTACH;FMTTYPE=image/svg+xml:https://vpc.lv/wp-content/uploads/2025/01/Event-eosc-1.svg
END:VEVENT
BEGIN:VEVENT
DTSTART;TZID=Europe/Helsinki:20250225T160000
DTEND;TZID=Europe/Helsinki:20250225T170000
DTSTAMP:20260424T003128
CREATED:20250205T151324Z
LAST-MODIFIED:20250205T151324Z
UID:3899-1740499200-1740502800@vpc.lv
SUMMARY:GÉANT Compendium 2024 - Data Release Infoshare
DESCRIPTION:Link to event – https://events.geant.org/event/1843/
URL:https://vpc.lv/event/geant-compendium-2024-data-release-infoshare/
LOCATION:Online
ATTACH;FMTTYPE=image/svg+xml:https://vpc.lv/wp-content/uploads/2025/01/Event-geant.svg
END:VEVENT
BEGIN:VEVENT
DTSTART;TZID=Europe/Helsinki:20250226T123000
DTEND;TZID=Europe/Helsinki:20250226T143000
DTSTAMP:20260424T003128
CREATED:20250116T141924Z
LAST-MODIFIED:20250116T141924Z
UID:3538-1740573000-1740580200@vpc.lv
SUMMARY:SIG-ISM Virtual Meeting
DESCRIPTION:Link to event – https://events.geant.org/event/1814/
URL:https://vpc.lv/event/sig-ism-virtual-meeting/
ATTACH;FMTTYPE=image/svg+xml:https://vpc.lv/wp-content/uploads/2025/01/Event-geant.svg
END:VEVENT
END:VCALENDAR