BEGIN:VCALENDAR
VERSION:2.0
PRODID:-//vpc.lv - ECPv6.15.20//NONSGML v1.0//EN
CALSCALE:GREGORIAN
METHOD:PUBLISH
X-WR-CALNAME:vpc.lv
X-ORIGINAL-URL:https://vpc.lv
X-WR-CALDESC:Events for vpc.lv
REFRESH-INTERVAL;VALUE=DURATION:PT1H
X-Robots-Tag:noindex
X-PUBLISHED-TTL:PT1H
BEGIN:VTIMEZONE
TZID:Europe/Helsinki
BEGIN:DAYLIGHT
TZOFFSETFROM:+0200
TZOFFSETTO:+0300
TZNAME:EEST
DTSTART:20230326T010000
END:DAYLIGHT
BEGIN:STANDARD
TZOFFSETFROM:+0300
TZOFFSETTO:+0200
TZNAME:EET
DTSTART:20231029T010000
END:STANDARD
BEGIN:DAYLIGHT
TZOFFSETFROM:+0200
TZOFFSETTO:+0300
TZNAME:EEST
DTSTART:20240331T010000
END:DAYLIGHT
BEGIN:STANDARD
TZOFFSETFROM:+0300
TZOFFSETTO:+0200
TZNAME:EET
DTSTART:20241027T010000
END:STANDARD
BEGIN:DAYLIGHT
TZOFFSETFROM:+0200
TZOFFSETTO:+0300
TZNAME:EEST
DTSTART:20250330T010000
END:DAYLIGHT
BEGIN:STANDARD
TZOFFSETFROM:+0300
TZOFFSETTO:+0200
TZNAME:EET
DTSTART:20251026T010000
END:STANDARD
BEGIN:DAYLIGHT
TZOFFSETFROM:+0200
TZOFFSETTO:+0300
TZNAME:EEST
DTSTART:20260329T010000
END:DAYLIGHT
BEGIN:STANDARD
TZOFFSETFROM:+0300
TZOFFSETTO:+0200
TZNAME:EET
DTSTART:20261025T010000
END:STANDARD
END:VTIMEZONE
BEGIN:VEVENT
DTSTART;TZID=Europe/Helsinki:20250210T130000
DTEND;TZID=Europe/Helsinki:20250210T150000
DTSTAMP:20260423T215526
CREATED:20250116T141634Z
LAST-MODIFIED:20250116T141634Z
UID:3533-1739192400-1739199600@vpc.lv
SUMMARY:Infoshare: Global Platform for Labs (GP4L)
DESCRIPTION:Description: \nJoin us for an exciting virtual infoshare session where we’ll explore the latest activities related to GP4L (the Global Platform for Labs). We will talk about \n\nThe main concepts and benefits related to GP4L\nHow to leverage the GP4L testbed to create flexible and adaptable networks\nUse cases and success stories from the GP4L labs\nThe future directions of GP4L\n\nDon’t miss this opportunity to connect with the GP4L team\, ask questions\, and gain valuable insights – https://geant-netdev.gitlab-pages.pcss.pl/gp4ldocs/ \nLink to event  – https://events.geant.org/event/1808/
URL:https://vpc.lv/event/infoshare-global-platform-for-labs-gp4l/
LOCATION:Virtually Hosted
ATTACH;FMTTYPE=image/svg+xml:https://vpc.lv/wp-content/uploads/2025/01/Event-geant.svg
END:VEVENT
BEGIN:VEVENT
DTSTART;TZID=Europe/Helsinki:20250206T090000
DTEND;TZID=Europe/Helsinki:20250207T180000
DTSTAMP:20260423T215526
CREATED:20250116T141949Z
LAST-MODIFIED:20250116T141949Z
UID:3629-1738832400-1738951200@vpc.lv
SUMMARY:Data Sharing Festival 2025
DESCRIPTION:This Festival celebrates the intersection of privacy\, cybersecurity\, and sovereignty in the data world. It aims to recognize achievements\, tackle challenges\, and shape the future of data spaces with a mix of inspiring keynotes\, panels\, and many interactive sessions. The Data Sharing Festival will have a dynamic program that focuses on practical solutions and collaboration to scale up market adoption and synergise individual approaches. \nYour active participation is crucial in this journey toward data sharing excellence. The program promises entertaining and enlightening experiences\, fostering connections and sparking future collaborations. \nLink to event – https://eosc.eu/events/data-sharing-festival-2025/
URL:https://vpc.lv/event/data-sharing-festival-2025/
ATTACH;FMTTYPE=image/svg+xml:https://vpc.lv/wp-content/uploads/2025/01/Event-eosc-1.svg
END:VEVENT
BEGIN:VEVENT
DTSTART;TZID=Europe/Helsinki:20250129T170000
DTEND;TZID=Europe/Helsinki:20250129T180000
DTSTAMP:20260423T215526
CREATED:20250116T142002Z
LAST-MODIFIED:20250116T142002Z
UID:3558-1738170000-1738173600@vpc.lv
SUMMARY:BERD Academy: Open Education for Research with Business\, Economics and Related Data
DESCRIPTION:Big Data took the world by storm\, Artificial Intelligence has become a hot topic across research disciplines. Working with these data can be a challenge. Especially for researchers in Business\, Economics and Social Sciences\, who graduated just a few years ago when most study programs covered mainly or exclusively ‘traditional’ data collection methods such as surveys with structured\, tabular data. \nTo unlock the research potential of new data sources by applying fitting methods\, education is needed. The BERD Academy is the training outlet of the consortium for Business\, Economics\, and Related Data in the National Research Data Infrastructure (BERD@NFDI). In this talk\, we will present how a wide range of offers in flexible formats fulfills the needs of researchers and research data providers. We want to discuss\, how educational content can unlock research potential and how open education can foster open science. \nLink to event – https://eosc.eu/events/berd-academy-open-education-for-research-with-business-economics-and-related-data/
URL:https://vpc.lv/event/berd-academy-open-education-for-research-with-business-economics-and-related-data/
LOCATION:Online
ATTACH;FMTTYPE=image/svg+xml:https://vpc.lv/wp-content/uploads/2025/01/Event-eosc-1.svg
END:VEVENT
BEGIN:VEVENT
DTSTART;TZID=Europe/Helsinki:20250128T110000
DTEND;TZID=Europe/Helsinki:20250128T163000
DTSTAMP:20260423T215526
CREATED:20250116T110405Z
LAST-MODIFIED:20250117T124138Z
UID:3571-1738062000-1738081800@vpc.lv
SUMMARY:Empowering Research: National RIMS System Launch in Latvia\, 28 January
DESCRIPTION:The Association “Higher Education and Science Information Technology Shared Service Centre” (VPC) has successfully conducted an open tender for the “Subscription of the Research Information Management System (RIMS) and Procurement of Related Services.” \nAs a result of the tender\, a Framework Agreement was signed on December 31\, 2024\, ensuring access to modern research information management solutions for Latvian state and academic institutions. \nThis step promotes the development of science and higher education by enabling effective management and dissemination of scientific and academic achievements. \nVPC and Elsevier are delighted to invite you to the National Research Information Management System (RIMS) Launch in Latvia.\n\nLink to registration: Press here\n\nDate: 28th January\, 2025\nTime: 11am – 4:30pm\nVenue: University of Latvia House of Science\, Jelgavas Street 3\, Room 103/104 \n\nAbout: \nJoin us to celebrate the launch of Latvia’s first cloud-based National Research Information Management System\, powered by Elsevier’s PURE platform. The event will feature a welcome address from key representatives\, a keynote speech on driving innovation and collaboration\, and a discussion on the journey of the National RIMS system in Latvia. Attendees can also look forward to a panel discussion on expectations and collaborative goals\, a presentation on the Pure system’s impact on innovation\, insights into how a leading university pioneered Pure\, and details on the strategic rollout of the system. The purpose of the event is to highlight the significance of this new system in empowering research and collaboration across Latvia. \nAgenda: \n\n\n\n\n\nTime\nEvent\n\n\n\n\n10:00–11:00\nRegistration and coffee break\n\n\n11:00\nWelcome\n\n\n11:30–11:50\nWelcoming words from the Ministry\n\n\n11:50–12:20\nKeynote Speech: “Driving Innovation: The Role of Pure in Empowering Research and Collaboration in Latvia” (Said Taha\, Senior Vice President\, Elsevier)\n\n\n12:20–12:50\n“From Conception to Reality: The Journey of the National RIMS System in Latvia” (Janis Grevins\, Higher Education and Science Information Technology Shared Service Centre)\n\n\n12:50–13:15\nLeading the Way: How Riga Stradiņš University Pioneered Pure in Latvia\n\n\n13:15–14:00\nLunch Break\n\n\n14:00–14:30\nPure system: Driving Innovation in Latvia’s National RIMS (Michał Nowak\, Software Solutions Technical Sales Manager)\n\n\n14:30–15:00\nInsights and Outcomes: The Impact of Pure Community Implementation in Israel\n\n\n15:00–15:15\nKey Conclusions: Lessons Learned from Implementation in Israel\n\n\n15:15–16:00\nStrategic Rollout: The Implementation Journey of Pure (Kresten Kodal Sorensen\, Senior Implementation Manager)\n\n\n16:00–16:30\nClosing and Q&A
URL:https://vpc.lv/event/empowering-research-national-rims-system-launch-in-latvia-28-january/
LOCATION:Latvijas universitāte (Zinātnes māja)\, Jelgavas iela 3\, Rīga\, Latvia
ATTACH;FMTTYPE=image/svg+xml:https://vpc.lv/wp-content/uploads/2025/01/event-elsevier.svg
END:VEVENT
BEGIN:VEVENT
DTSTART;TZID=Europe/Helsinki:20250122T113000
DTEND;TZID=Europe/Helsinki:20250122T173000
DTSTAMP:20260423T215526
CREATED:20250109T124641Z
LAST-MODIFIED:20250127T063015Z
UID:3401-1737545400-1737567000@vpc.lv
SUMMARY:Higher Education Reference Model - HERM
DESCRIPTION:Register for an eventSpeakers \nPatrik Maltusch \nPatrik Maltusch leads the EA architecture team at Aalto University and chairs the Finnish EA-SIG and EUNIS EA-SIG. With over 15 years as a network architect and business owner in a global Telco\, he is also an accredited security professional\, risk manager\, and Education Enterprise Architect. Patrik emphasizes interoperability as key to managing digitalization in complex ecosystems. \nEsa Suominen \nEsa Suominen works as an Enterprise Architect at the University of Helsinki. He is also secretary of the EUNIS EA SIG and the Finnish EA SIG. He has long experience in IT sector at Higher Education Institute. He holds M. Sc. from University of Lappeenranta. He is interested in to implement Enterprise architecture in practical way in organizations. \nAgenda \nDownload agendaDownload AgendaAgenda \n\n\n\n\n\n\n11:30-12:00\nRegistration. Tea/coffee\n\n\n12:00-13:30\nPractical workshop (for study process and IT teams) Introduction to HERM\, mapping of existing systems and processes\, review of real organisational situations and scenarios.\n\n\n13:30-14:15\nLunch\n\n\n14:15-16:00\nIT Institutional Strategy and National Framework (for leaders\, study process and IT teams) Strategic vision\, high-level roadmap\, cost-benefit analysis\, governance and alignment with national shared services.\n\n\n16:00-16:20\nTea/coffee\n\n\n16:20-17:30\nImplementation approaches and next steps International best practice\, simple integration and gradual implementation. HERM’s role in long-term governance and interoperability.\n\n\n\n\n\n\n\n\n\n11:30-\n12:00\nRegistration. Tea/coffee\n\n\n12:00-\n13:30\nPractical workshop (for study\nprocess and IT teams) Introduction to HERM\, mapping\nof existing systems and processes\, review of real\norganisational situations and scenarios.\n\n\n13:30-\n14:15\nLunch\n\n\n14:15-\n16:00\nIT Institutional Strategy and\nNational Framework (for leaders\, study process and\nIT teams) Strategic vision\, high-level roadmap\,\ncost-benefit analysis\, governance and alignment\nwith national shared services.\n\n\n16:00-\n16:20\nTea/coffee\n\n\n16:20-\n17:30\nImplementation approaches and\nnext steps International best practice\, simple\nintegration and gradual implementation. HERM’s role\nin long-term governance and interoperability.\n\n\n\n\n• At Jelgavas Street 1\, Riga. Entry to the parking lot is before the LU Dabas māja (Nature House) if you are coming from the city center. Press the button at the barrier and provide the password ‘VPC’. \n• At Jelgavas Street 3\, Riga. Entry to the parking lot is behind the LU Zinātņu māja (Science House) if you are coming from the city center. Press the button at the barrier and provide the password ‘VPC’.
URL:https://vpc.lv/event/higher-education-reference-model-herm/
LOCATION:Latvijas universitāte (Zinātnes māja)\, Jelgavas iela 3\, Rīga\, Latvia
ATTACH;FMTTYPE=image/svg+xml:https://vpc.lv/wp-content/uploads/2025/01/banner-2.svg
END:VEVENT
BEGIN:VEVENT
DTSTART;TZID=Europe/Helsinki:20241114T113000
DTEND;TZID=Europe/Helsinki:20241114T180000
DTSTAMP:20260423T215526
CREATED:20241031T044308Z
LAST-MODIFIED:20241107T053852Z
UID:1778-1731583800-1731607200@vpc.lv
SUMMARY:VPC Information day
DESCRIPTION:
URL:https://vpc.lv/event/1778/
LOCATION:VPC Information day\, Dzirnavu iela 33\, Riga\, Centrs\, LV-1010\, Latvia
ATTACH;FMTTYPE=image/jpeg:https://vpc.lv/wp-content/uploads/2024/10/melns_vpc_info.jpg
END:VEVENT
END:VCALENDAR