BEGIN:VCALENDAR
VERSION:2.0
PRODID:-//vpc.lv - ECPv6.15.20//NONSGML v1.0//EN
CALSCALE:GREGORIAN
METHOD:PUBLISH
X-WR-CALNAME:vpc.lv
X-ORIGINAL-URL:https://vpc.lv
X-WR-CALDESC:Events for vpc.lv
REFRESH-INTERVAL;VALUE=DURATION:PT1H
X-Robots-Tag:noindex
X-PUBLISHED-TTL:PT1H
BEGIN:VTIMEZONE
TZID:Europe/Helsinki
BEGIN:DAYLIGHT
TZOFFSETFROM:+0200
TZOFFSETTO:+0300
TZNAME:EEST
DTSTART:20240331T010000
END:DAYLIGHT
BEGIN:STANDARD
TZOFFSETFROM:+0300
TZOFFSETTO:+0200
TZNAME:EET
DTSTART:20241027T010000
END:STANDARD
BEGIN:DAYLIGHT
TZOFFSETFROM:+0200
TZOFFSETTO:+0300
TZNAME:EEST
DTSTART:20250330T010000
END:DAYLIGHT
BEGIN:STANDARD
TZOFFSETFROM:+0300
TZOFFSETTO:+0200
TZNAME:EET
DTSTART:20251026T010000
END:STANDARD
BEGIN:DAYLIGHT
TZOFFSETFROM:+0200
TZOFFSETTO:+0300
TZNAME:EEST
DTSTART:20260329T010000
END:DAYLIGHT
BEGIN:STANDARD
TZOFFSETFROM:+0300
TZOFFSETTO:+0200
TZNAME:EET
DTSTART:20261025T010000
END:STANDARD
END:VTIMEZONE
BEGIN:VEVENT
DTSTART;VALUE=DATE:20250609
DTEND;VALUE=DATE:20250614
DTSTAMP:20260423T195454
CREATED:20250116T142924Z
LAST-MODIFIED:20250116T142924Z
UID:3706-1749427200-1749859199@vpc.lv
SUMMARY:TNC25
DESCRIPTION:The largest and most prestigious research and education networking conference\, TNC attracts a truly diverse audience of over 800 participants from more than 70 countries. Attendees represent national and regional research and education networks\, schools and universities\, technology providers\, and many of the world’s most exciting scientific projects. \nBy bringing together decision-makers\, networking and security specialists\, identity and access management experts\, researchers\, academics and students\, TNC offers a unique collaborative experience. \nLink to event – https://tnc25.geant.org/
URL:https://vpc.lv/event/tnc25/
LOCATION:Brighton\, Church St\, Brighton and Hove\, Brighton BN1 1UE\, Brighton\, United Kingdom
ATTACH;FMTTYPE=image/svg+xml:https://vpc.lv/wp-content/uploads/2025/01/Event-geant.svg
END:VEVENT
END:VCALENDAR