BEGIN:VCALENDAR
VERSION:2.0
PRODID:-//vpc.lv - ECPv6.15.20//NONSGML v1.0//EN
CALSCALE:GREGORIAN
METHOD:PUBLISH
X-WR-CALNAME:vpc.lv
X-ORIGINAL-URL:https://vpc.lv
X-WR-CALDESC:Events for vpc.lv
REFRESH-INTERVAL;VALUE=DURATION:PT1H
X-Robots-Tag:noindex
X-PUBLISHED-TTL:PT1H
BEGIN:VTIMEZONE
TZID:Europe/Helsinki
BEGIN:DAYLIGHT
TZOFFSETFROM:+0200
TZOFFSETTO:+0300
TZNAME:EEST
DTSTART:20240331T010000
END:DAYLIGHT
BEGIN:STANDARD
TZOFFSETFROM:+0300
TZOFFSETTO:+0200
TZNAME:EET
DTSTART:20241027T010000
END:STANDARD
BEGIN:DAYLIGHT
TZOFFSETFROM:+0200
TZOFFSETTO:+0300
TZNAME:EEST
DTSTART:20250330T010000
END:DAYLIGHT
BEGIN:STANDARD
TZOFFSETFROM:+0300
TZOFFSETTO:+0200
TZNAME:EET
DTSTART:20251026T010000
END:STANDARD
BEGIN:DAYLIGHT
TZOFFSETFROM:+0200
TZOFFSETTO:+0300
TZNAME:EEST
DTSTART:20260329T010000
END:DAYLIGHT
BEGIN:STANDARD
TZOFFSETFROM:+0300
TZOFFSETTO:+0200
TZNAME:EET
DTSTART:20261025T010000
END:STANDARD
END:VTIMEZONE
BEGIN:VEVENT
DTSTART;VALUE=DATE:20250604
DTEND;VALUE=DATE:20250607
DTSTAMP:20260423T195432
CREATED:20250116T141830Z
LAST-MODIFIED:20250116T141830Z
UID:3678-1748995200-1749254399@vpc.lv
SUMMARY:Annual Congress - EUNIS
DESCRIPTION:One of the main EUNIS activity is its Annual Congress.\nThe next EUNIS Congress will take place on 4-6 June 2025 at the University of Ulster\, UK.\nBefore each Congress EUNIS organises 1 day of workshops led by Special Interest Groups which many delegates attend. \nLink to event – https://eunis.org/eunis2025/
URL:https://vpc.lv/event/annual-congress-eunis/
LOCATION:Ulster University\, York St\, Belfast BT15 1ED\, Belfast\, United Kingdom
ATTACH;FMTTYPE=image/svg+xml:https://vpc.lv/wp-content/uploads/2025/01/Event-Eunis.svg
END:VEVENT
END:VCALENDAR