BEGIN:VCALENDAR
VERSION:2.0
PRODID:-//vpc.lv - ECPv6.15.20//NONSGML v1.0//EN
CALSCALE:GREGORIAN
METHOD:PUBLISH
X-WR-CALNAME:vpc.lv
X-ORIGINAL-URL:https://vpc.lv
X-WR-CALDESC:Events for vpc.lv
REFRESH-INTERVAL;VALUE=DURATION:PT1H
X-Robots-Tag:noindex
X-PUBLISHED-TTL:PT1H
BEGIN:VTIMEZONE
TZID:Europe/Helsinki
BEGIN:DAYLIGHT
TZOFFSETFROM:+0200
TZOFFSETTO:+0300
TZNAME:EEST
DTSTART:20240331T010000
END:DAYLIGHT
BEGIN:STANDARD
TZOFFSETFROM:+0300
TZOFFSETTO:+0200
TZNAME:EET
DTSTART:20241027T010000
END:STANDARD
BEGIN:DAYLIGHT
TZOFFSETFROM:+0200
TZOFFSETTO:+0300
TZNAME:EEST
DTSTART:20250330T010000
END:DAYLIGHT
BEGIN:STANDARD
TZOFFSETFROM:+0300
TZOFFSETTO:+0200
TZNAME:EET
DTSTART:20251026T010000
END:STANDARD
BEGIN:DAYLIGHT
TZOFFSETFROM:+0200
TZOFFSETTO:+0300
TZNAME:EEST
DTSTART:20260329T010000
END:DAYLIGHT
BEGIN:STANDARD
TZOFFSETFROM:+0300
TZOFFSETTO:+0200
TZNAME:EET
DTSTART:20261025T010000
END:STANDARD
END:VTIMEZONE
BEGIN:VEVENT
DTSTART;TZID=Europe/Helsinki:20250321T150000
DTEND;TZID=Europe/Helsinki:20250321T173000
DTSTAMP:20260424T002900
CREATED:20250206T074642Z
LAST-MODIFIED:20250206T074642Z
UID:3905-1742569200-1742578200@vpc.lv
SUMMARY:15th SIG-CISS - hybrid (online and at LMU Munich)
DESCRIPTION:This is the GÈANT Community Cloud Interoperable Software Stacks Special Interest Group – focussing\, this time\, on Infrastructure-as-Code approaches. \nLink to event – https://events.geant.org/event/1816/
URL:https://vpc.lv/event/15th-sig-ciss-hybrid-online-and-at-lmu-munich/
LOCATION:Online
ATTACH;FMTTYPE=image/svg+xml:https://vpc.lv/wp-content/uploads/2025/01/Event-geant.svg
END:VEVENT
END:VCALENDAR