BEGIN:VCALENDAR
VERSION:2.0
PRODID:-//vpc.lv - ECPv6.15.20//NONSGML v1.0//EN
CALSCALE:GREGORIAN
METHOD:PUBLISH
X-ORIGINAL-URL:https://vpc.lv
X-WR-CALDESC:Events for vpc.lv
REFRESH-INTERVAL;VALUE=DURATION:PT1H
X-Robots-Tag:noindex
X-PUBLISHED-TTL:PT1H
BEGIN:VTIMEZONE
TZID:Europe/Helsinki
BEGIN:DAYLIGHT
TZOFFSETFROM:+0200
TZOFFSETTO:+0300
TZNAME:EEST
DTSTART:20240331T010000
END:DAYLIGHT
BEGIN:STANDARD
TZOFFSETFROM:+0300
TZOFFSETTO:+0200
TZNAME:EET
DTSTART:20241027T010000
END:STANDARD
BEGIN:DAYLIGHT
TZOFFSETFROM:+0200
TZOFFSETTO:+0300
TZNAME:EEST
DTSTART:20250330T010000
END:DAYLIGHT
BEGIN:STANDARD
TZOFFSETFROM:+0300
TZOFFSETTO:+0200
TZNAME:EET
DTSTART:20251026T010000
END:STANDARD
BEGIN:DAYLIGHT
TZOFFSETFROM:+0200
TZOFFSETTO:+0300
TZNAME:EEST
DTSTART:20260329T010000
END:DAYLIGHT
BEGIN:STANDARD
TZOFFSETFROM:+0300
TZOFFSETTO:+0200
TZNAME:EET
DTSTART:20261025T010000
END:STANDARD
END:VTIMEZONE
BEGIN:VEVENT
DTSTART;TZID=Europe/Helsinki:20250218T130000
DTEND;TZID=Europe/Helsinki:20250218T143000
DTSTAMP:20260424T015139
CREATED:20250131T201606Z
LAST-MODIFIED:20250204T062917Z
UID:3832-1739883600-1739889000@vpc.lv
SUMMARY:Online seminar on Clarivate's vision: "The Digital Age in Academia – Modern Library Services and Digital Transformation"
DESCRIPTION:Discover how Alma – an integrated library management system – provides libraries with modern tools for resource acquisition\, cataloging\, and circulation\, transforming libraries into efficiency hubs within your institution. By using Alma\, libraries can develop new\, value-added services for different user groups\, improving access to information and supporting academic work. \nGain practical insights into enhancing library operations and performance. \nPresenter: Bettina Schmid\, Senior Technical Solutions Consultant at Clarivate. \nRegistration form: \nBy submitting this form\, I agree that my data will be processed by VPCSubmitThank you for registering for the event! We will send the information to your email.×There was an error filling out the form. Please check the information you entered and try again.×
URL:https://vpc.lv/event/digital-age-in-academia-modern-library-services-and-digital-transformation/
LOCATION:Online
ATTACH;FMTTYPE=image/svg+xml:https://vpc.lv/wp-content/uploads/2025/01/Clarivate-big-banner-1.svg
END:VEVENT
END:VCALENDAR